BEGIN:VCALENDAR
VERSION:2.0
PRODID:-//ACTR - ECPv6.2.9//NONSGML v1.0//EN
CALSCALE:GREGORIAN
METHOD:PUBLISH
X-ORIGINAL-URL:https://actr.ch
X-WR-CALDESC:évènements pour ACTR
REFRESH-INTERVAL;VALUE=DURATION:PT1H
X-Robots-Tag:noindex
X-PUBLISHED-TTL:PT1H
BEGIN:VTIMEZONE
TZID:Europe/Zurich
BEGIN:DAYLIGHT
TZOFFSETFROM:+0100
TZOFFSETTO:+0200
TZNAME:CEST
DTSTART:20230326T010000
END:DAYLIGHT
BEGIN:STANDARD
TZOFFSETFROM:+0200
TZOFFSETTO:+0100
TZNAME:CET
DTSTART:20231029T010000
END:STANDARD
END:VTIMEZONE
BEGIN:VEVENT
DTSTART;TZID=Europe/Zurich:20230903T100000
DTEND;TZID=Europe/Zurich:20230903T114500
DTSTAMP:20260422T110507
CREATED:20230805T120120Z
LAST-MODIFIED:20230828T115252Z
UID:6814-1693735200-1693741500@actr.ch
SUMMARY:Culte & Message biblique | Encore actuels\, les Psaumes ? | Le fondement de la confiance - Ps 27
DESCRIPTION:Dimanche 3 septembre 2023 \n10h-11h45: Culte & Message biblique | Encore actuels\, les Psaumes ? | Le fondement de la confiance – Ps 27 \nOrateur: Benoît Pfister \n10h30-11h45: Ecole du dimanche & Minicell
URL:https://actr.ch/event/culte-message-biblique-encore-actuels-les-psaumes-ps-27/
LOCATION:ACTR\, Chemin des Trois-Rois 5\, Lausanne\, 1005\, Suisse
ATTACH;FMTTYPE=image/jpeg:https://actr.ch/wp-content/uploads/2023/08/2023.09.03PS27_B.jpg
END:VEVENT
BEGIN:VEVENT
DTSTART;TZID=Europe/Zurich:20230903T103000
DTEND;TZID=Europe/Zurich:20230903T114500
DTSTAMP:20260422T110507
CREATED:20230828T115006Z
LAST-MODIFIED:20230828T115006Z
UID:6864-1693737000-1693741500@actr.ch
SUMMARY:Minicell
DESCRIPTION:Dimanche  3 septembre 2023 \n10h30-11h45: Minicell\, pour les 0-3 ans \nMinicell\, un programme d’éveil à la foi pour les petits. Moment que les parents sont conviés à vivre conjointement avec leur(s) enfant(s).
URL:https://actr.ch/event/minicell-11/
LOCATION:ACTR\, Chemin des Trois-Rois 5\, Lausanne\, 1005\, Suisse
ATTACH;FMTTYPE=image/jpeg:https://actr.ch/wp-content/uploads/2023/08/2023.09.03_minicell.jpg
END:VEVENT
END:VCALENDAR