BEGIN:VCALENDAR
VERSION:2.0
PRODID:-//ACTR - ECPv6.2.9//NONSGML v1.0//EN
CALSCALE:GREGORIAN
METHOD:PUBLISH
X-ORIGINAL-URL:https://actr.ch
X-WR-CALDESC:évènements pour ACTR
REFRESH-INTERVAL;VALUE=DURATION:PT1H
X-Robots-Tag:noindex
X-PUBLISHED-TTL:PT1H
BEGIN:VTIMEZONE
TZID:Europe/Zurich
BEGIN:DAYLIGHT
TZOFFSETFROM:+0100
TZOFFSETTO:+0200
TZNAME:CEST
DTSTART:20230326T010000
END:DAYLIGHT
BEGIN:STANDARD
TZOFFSETFROM:+0200
TZOFFSETTO:+0100
TZNAME:CET
DTSTART:20231029T010000
END:STANDARD
END:VTIMEZONE
BEGIN:VEVENT
DTSTART;TZID=Europe/Zurich:20230716T100000
DTEND;TZID=Europe/Zurich:20230716T114500
DTSTAMP:20260422T140000
CREATED:20230619T123219Z
LAST-MODIFIED:20230709T201923Z
UID:6685-1689501600-1689507900@actr.ch
SUMMARY:Culte & Message biblique | Encore actuels\, les Psaumes ? Plénitude | Ps 45 - Orateur: Gérald Stocker
DESCRIPTION:Dimanche 16 juillet 2023 \n10h-11h45: Culte & Message biblique | Encore actuels\, les Psaumes ? Plénitude | Ps 45 –  Orateur: Gérald Stocker \nIl n’y a pas d’école du dimanche\, mais la garderie est ouverte – Les parents s’arrangent entre eux.
URL:https://actr.ch/event/culte-message-biblique-encore-actuels-les-psaumes/
LOCATION:ACTR\, Chemin des Trois-Rois 5\, Lausanne\, 1005\, Suisse
ATTACH;FMTTYPE=image/jpeg:https://actr.ch/wp-content/uploads/2023/06/2023.07.16_Updated.jpg
END:VEVENT
END:VCALENDAR