BEGIN:VCALENDAR
VERSION:2.0
PRODID:-//ACTR - ECPv6.2.9//NONSGML v1.0//EN
CALSCALE:GREGORIAN
METHOD:PUBLISH
X-ORIGINAL-URL:https://actr.ch
X-WR-CALDESC:évènements pour ACTR
REFRESH-INTERVAL;VALUE=DURATION:PT1H
X-Robots-Tag:noindex
X-PUBLISHED-TTL:PT1H
BEGIN:VTIMEZONE
TZID:Europe/Zurich
BEGIN:DAYLIGHT
TZOFFSETFROM:+0100
TZOFFSETTO:+0200
TZNAME:CEST
DTSTART:20230326T010000
END:DAYLIGHT
BEGIN:STANDARD
TZOFFSETFROM:+0200
TZOFFSETTO:+0100
TZNAME:CET
DTSTART:20231029T010000
END:STANDARD
END:VTIMEZONE
BEGIN:VEVENT
DTSTART;TZID=Europe/Zurich:20230709T100000
DTEND;TZID=Europe/Zurich:20230709T114500
DTSTAMP:20260422T104127
CREATED:20230619T123042Z
LAST-MODIFIED:20230704T124232Z
UID:6683-1688896800-1688903100@actr.ch
SUMMARY:Culte\, Message biblique & témoignage de vie
DESCRIPTION:Dimanche 9 juillet 2023 \n10h-11h45: Culte\, Message biblique & Témoignage de vie \nIl n’y a pas d’école du dimanche\, mais la garderie est ouverte pour petits et moyens:) \nLE LIVESTREAM SE TERMINERA À 11H.
URL:https://actr.ch/event/culte-message-biblique-temoignage-missionnaire/
LOCATION:ACTR\, Chemin des Trois-Rois 5\, Lausanne\, 1005\, Suisse
ATTACH;FMTTYPE=image/jpeg:https://actr.ch/wp-content/uploads/2023/06/2023.07.09_TemoignageImageOnly.jpg
END:VEVENT
END:VCALENDAR