BEGIN:VCALENDAR
VERSION:2.0
PRODID:-//ACTR - ECPv6.2.9//NONSGML v1.0//EN
CALSCALE:GREGORIAN
METHOD:PUBLISH
X-WR-CALNAME:ACTR
X-ORIGINAL-URL:https://actr.ch
X-WR-CALDESC:évènements pour ACTR
REFRESH-INTERVAL;VALUE=DURATION:PT1H
X-Robots-Tag:noindex
X-PUBLISHED-TTL:PT1H
BEGIN:VTIMEZONE
TZID:Europe/Zurich
BEGIN:DAYLIGHT
TZOFFSETFROM:+0100
TZOFFSETTO:+0200
TZNAME:CEST
DTSTART:20230326T010000
END:DAYLIGHT
BEGIN:STANDARD
TZOFFSETFROM:+0200
TZOFFSETTO:+0100
TZNAME:CET
DTSTART:20231029T010000
END:STANDARD
END:VTIMEZONE
BEGIN:VEVENT
DTSTART;TZID=Europe/Zurich:20230618T100000
DTEND;TZID=Europe/Zurich:20230618T114500
DTSTAMP:20260422T120009
CREATED:20230513T215006Z
LAST-MODIFIED:20230605T071039Z
UID:6585-1687082400-1687088700@actr.ch
SUMMARY:Culte & Message biblique | Encore actuels\, les Psaumes ? Psaume 34 | Un changement de regard - Orateur: Eric Lecomte
DESCRIPTION:Dimanche 18 juin 2023 \n10h-11h45: Culte & Message biblique | Encore actuels\, les Psaumes ? Psaume 34 | Un changement de regard – Orateur: Eric Lecomte \n10h30-11h45: Ecole du dimanche & Garderie
URL:https://actr.ch/event/6585/
LOCATION:ACTR\, Chemin des Trois-Rois 5\, Lausanne\, 1005\, Suisse
ATTACH;FMTTYPE=image/jpeg:https://actr.ch/wp-content/uploads/2023/05/2023.06.18_Ps34.jpg
END:VEVENT
BEGIN:VEVENT
DTSTART;TZID=Europe/Zurich:20230618T173000
DTEND;TZID=Europe/Zurich:20230618T190000
DTSTAMP:20260422T120009
CREATED:20230610T225315Z
LAST-MODIFIED:20230612T132140Z
UID:6659-1687109400-1687114800@actr.ch
SUMMARY:Temps de louange
DESCRIPTION:Dimanche 18 juin 2023 \nTemps de louange à l’ACTR. \nPour toutes et tous!
URL:https://actr.ch/event/soiree-louange-2/
LOCATION:ACTR\, Chemin des Trois-Rois 5\, Lausanne\, 1005\, Suisse
ATTACH;FMTTYPE=image/jpeg:https://actr.ch/wp-content/uploads/2023/06/2023.06.18_TempsDeLouange.jpg
END:VEVENT
END:VCALENDAR