BEGIN:VCALENDAR
VERSION:2.0
PRODID:-//ACTR - ECPv6.2.9//NONSGML v1.0//EN
CALSCALE:GREGORIAN
METHOD:PUBLISH
X-WR-CALNAME:ACTR
X-ORIGINAL-URL:https://actr.ch
X-WR-CALDESC:évènements pour ACTR
REFRESH-INTERVAL;VALUE=DURATION:PT1H
X-Robots-Tag:noindex
X-PUBLISHED-TTL:PT1H
BEGIN:VTIMEZONE
TZID:Europe/Zurich
BEGIN:DAYLIGHT
TZOFFSETFROM:+0100
TZOFFSETTO:+0200
TZNAME:CEST
DTSTART:20230326T010000
END:DAYLIGHT
BEGIN:STANDARD
TZOFFSETFROM:+0200
TZOFFSETTO:+0100
TZNAME:CET
DTSTART:20231029T010000
END:STANDARD
END:VTIMEZONE
BEGIN:VEVENT
DTSTART;TZID=Europe/Zurich:20230614T120000
DTEND;TZID=Europe/Zurich:20230614T170000
DTSTAMP:20260422T132346
CREATED:20230530T084902Z
LAST-MODIFIED:20230530T084946Z
UID:6626-1686744000-1686762000@actr.ch
SUMMARY:Groupe de l'amitié
DESCRIPTION:Mercredi 14 juin 2023 \n12h: Repas au Restaurant Falamix (Espace Savonnerie 7\, 10120 Renens – Parking à la Migros tout proche) \nPuis: Visite sur les 1000 facettes des lacs suisses à la Maison de la Rivière (Chemin du Boiron 2\, 1131 Tolochenaz) \nPour tous les détails de l’invitation\, c’est ici. \nInscription auprès d’Anne-Lise Flaction | flaction33@bluewin.ch – 021 731 16 58 – 079 646 86 83
URL:https://actr.ch/event/groupe-de-lamitie-5/
ATTACH;FMTTYPE=image/jpeg:https://actr.ch/wp-content/uploads/2023/05/2023.06.14_GroupeDelamitie.jpg
END:VEVENT
END:VCALENDAR