BEGIN:VCALENDAR
VERSION:2.0
PRODID:-//ACTR - ECPv6.2.9//NONSGML v1.0//EN
CALSCALE:GREGORIAN
METHOD:PUBLISH
X-ORIGINAL-URL:https://actr.ch
X-WR-CALDESC:évènements pour ACTR
REFRESH-INTERVAL;VALUE=DURATION:PT1H
X-Robots-Tag:noindex
X-PUBLISHED-TTL:PT1H
BEGIN:VTIMEZONE
TZID:Europe/Zurich
BEGIN:DAYLIGHT
TZOFFSETFROM:+0100
TZOFFSETTO:+0200
TZNAME:CEST
DTSTART:20230326T010000
END:DAYLIGHT
BEGIN:STANDARD
TZOFFSETFROM:+0200
TZOFFSETTO:+0100
TZNAME:CET
DTSTART:20231029T010000
END:STANDARD
END:VTIMEZONE
BEGIN:VEVENT
DTSTART;TZID=Europe/Zurich:20230611T100000
DTEND;TZID=Europe/Zurich:20230611T114500
DTSTAMP:20260422T102538
CREATED:20230422T224642Z
LAST-MODIFIED:20230513T214543Z
UID:6522-1686477600-1686483900@actr.ch
SUMMARY:Culte & Message biblique | Quand le langage dérape: la malédiction dans les Psaumes - Orateur: David Bouillon
DESCRIPTION:Dimanche 11 juin 2023 \n10h-11h45: Culte & Message biblique | Quand le langage dérape: la malédiction dans les Psaumes – Orateur: David Bouillon \n10h30-11h45: Ecole du dimanche & Garderie
URL:https://actr.ch/event/culte-message-biblique-etude-dun-psaume-orateur-david-bouillon/
LOCATION:ACTR\, Chemin des Trois-Rois 5\, Lausanne\, 1005\, Suisse
ATTACH;FMTTYPE=image/jpeg:https://actr.ch/wp-content/uploads/2023/04/2023.06.11_LaMaledictionDansLesPsaumes.jpg
END:VEVENT
BEGIN:VEVENT
DTSTART;TZID=Europe/Zurich:20230611T103000
DTEND;TZID=Europe/Zurich:20230611T114500
DTSTAMP:20260422T102538
CREATED:20230530T203224Z
LAST-MODIFIED:20230530T203224Z
UID:6642-1686479400-1686483900@actr.ch
SUMMARY:Minicell
DESCRIPTION:Dimanche 11 juin 2023 \n10h30-11h45: Minicell\, pour les 0-3 ans \nMinicell\, un programme d’éveil à la foi pour les petits. Moment que les parents sont conviés à vivre conjointement avec leur(s) enfant(s).
URL:https://actr.ch/event/minicell-10/
LOCATION:ACTR\, Chemin des Trois-Rois 5\, Lausanne\, 1005\, Suisse
ATTACH;FMTTYPE=image/jpeg:https://actr.ch/wp-content/uploads/2023/05/2023.06.11_Minicell.jpg
END:VEVENT
END:VCALENDAR