BEGIN:VCALENDAR
VERSION:2.0
PRODID:-//ACTR - ECPv6.2.9//NONSGML v1.0//EN
CALSCALE:GREGORIAN
METHOD:PUBLISH
X-ORIGINAL-URL:https://actr.ch
X-WR-CALDESC:évènements pour ACTR
REFRESH-INTERVAL;VALUE=DURATION:PT1H
X-Robots-Tag:noindex
X-PUBLISHED-TTL:PT1H
BEGIN:VTIMEZONE
TZID:Europe/Zurich
BEGIN:DAYLIGHT
TZOFFSETFROM:+0100
TZOFFSETTO:+0200
TZNAME:CEST
DTSTART:20230326T010000
END:DAYLIGHT
BEGIN:STANDARD
TZOFFSETFROM:+0200
TZOFFSETTO:+0100
TZNAME:CET
DTSTART:20231029T010000
END:STANDARD
END:VTIMEZONE
BEGIN:VEVENT
DTSTART;TZID=Europe/Zurich:20230607T193000
DTEND;TZID=Europe/Zurich:20230607T213000
DTSTAMP:20260422T132637
CREATED:20230130T133137Z
LAST-MODIFIED:20230130T133137Z
UID:6086-1686166200-1686173400@actr.ch
SUMMARY:AlphaLive | La Bible: Pourquoi et comment lire la Bible?
DESCRIPTION:Mercredi 7 juin 2023 – 19h30 \nLa Bible: Pourquoi et comment lire la Bible? \nExplore la vie\, la foi\, le sens: 7 sessions AlphaLive \nRepas + Exposé + Discussion \nwww.fr.alphalive.ch \nInfo & Inscription: alphalive@actr.ch
URL:https://actr.ch/event/alphalive-la-bible-pourquoi-et-comment-lire-la-bible/
LOCATION:ACTR\, Chemin des Trois-Rois 5\, Lausanne\, 1005\, Suisse
ATTACH;FMTTYPE=image/jpeg:https://actr.ch/wp-content/uploads/2023/01/2023.03.08_alphalive_dates.jpg
END:VEVENT
END:VCALENDAR