BEGIN:VCALENDAR
VERSION:2.0
PRODID:-//ACTR - ECPv6.2.9//NONSGML v1.0//EN
CALSCALE:GREGORIAN
METHOD:PUBLISH
X-WR-CALNAME:ACTR
X-ORIGINAL-URL:https://actr.ch
X-WR-CALDESC:évènements pour ACTR
REFRESH-INTERVAL;VALUE=DURATION:PT1H
X-Robots-Tag:noindex
X-PUBLISHED-TTL:PT1H
BEGIN:VTIMEZONE
TZID:Europe/Zurich
BEGIN:DAYLIGHT
TZOFFSETFROM:+0100
TZOFFSETTO:+0200
TZNAME:CEST
DTSTART:20230326T010000
END:DAYLIGHT
BEGIN:STANDARD
TZOFFSETFROM:+0200
TZOFFSETTO:+0100
TZNAME:CET
DTSTART:20231029T010000
END:STANDARD
END:VTIMEZONE
BEGIN:VEVENT
DTSTART;TZID=Europe/Zurich:20230604T100000
DTEND;TZID=Europe/Zurich:20230604T113000
DTSTAMP:20260422T114813
CREATED:20230422T224436Z
LAST-MODIFIED:20230530T091758Z
UID:6519-1685872800-1685878200@actr.ch
SUMMARY:Culte Open Door | Spécial Familles
DESCRIPTION:Dimanche 4 juin 2023 \n10h-11h30: Culte Open Door | Spécial Familles \nPrière-Contact à la fin du culte
URL:https://actr.ch/event/culte-open-door-special-familles/
LOCATION:ACTR\, Chemin des Trois-Rois 5\, Lausanne\, 1005\, Suisse
ATTACH;FMTTYPE=image/jpeg:https://actr.ch/wp-content/uploads/2023/04/2023.06.04_CulteOpenDoor-scaled.jpg
END:VEVENT
BEGIN:VEVENT
DTSTART;TZID=Europe/Zurich:20230604T120000
DTEND;TZID=Europe/Zurich:20230604T150000
DTSTAMP:20260422T114813
CREATED:20230513T214337Z
LAST-MODIFIED:20230530T091359Z
UID:6580-1685880000-1685890800@actr.ch
SUMMARY:Repas convivial\, spectacle\, fête pour les enfants & kermesse
DESCRIPTION:Dimanche 4 juin 2023 \nDès 12h: Repas convivial\, sous forme de buffet canadien (merci d’avance pour votre contribution) \nPuis spectacle\, fête pour les enfants & kermesse
URL:https://actr.ch/event/repas-convivial-spectacle-fete-pour-les-enfants-kermesse/
LOCATION:ACTR\, Chemin des Trois-Rois 5\, Lausanne\, 1005\, Suisse
ATTACH;FMTTYPE=image/jpeg:https://actr.ch/wp-content/uploads/2023/04/2023.06.04_CulteOpenDoor-scaled.jpg
END:VEVENT
END:VCALENDAR