BEGIN:VCALENDAR
VERSION:2.0
PRODID:-//ACTR - ECPv6.2.9//NONSGML v1.0//EN
CALSCALE:GREGORIAN
METHOD:PUBLISH
X-ORIGINAL-URL:https://actr.ch
X-WR-CALDESC:évènements pour ACTR
REFRESH-INTERVAL;VALUE=DURATION:PT1H
X-Robots-Tag:noindex
X-PUBLISHED-TTL:PT1H
BEGIN:VTIMEZONE
TZID:Europe/Zurich
BEGIN:DAYLIGHT
TZOFFSETFROM:+0100
TZOFFSETTO:+0200
TZNAME:CEST
DTSTART:20230326T010000
END:DAYLIGHT
BEGIN:STANDARD
TZOFFSETFROM:+0200
TZOFFSETTO:+0100
TZNAME:CET
DTSTART:20231029T010000
END:STANDARD
END:VTIMEZONE
BEGIN:VEVENT
DTSTART;TZID=Europe/Zurich:20230404T200000
DTEND;TZID=Europe/Zurich:20230404T213000
DTSTAMP:20260422T171705
CREATED:20230211T215310Z
LAST-MODIFIED:20230403T112916Z
UID:6146-1680638400-1680643800@actr.ch
SUMMARY:Soirée Prière Focus Fonds Missionnaire
DESCRIPTION:Soirée Prière Focus Fonds Missionnaire \nSylvie Fuchs sera présente\, et témoignera brièvement de la raison de son engagement  comme missionnaire (maintenant au Mali). \nVisioconférence aussi avec une autre missionnaire\, Claudia Petrequin\, qui nous expliquera en quelques minutes son engagement dans les pays de l’Est. \nSoirée dont le but est de faire (re)découvrir différentes facettes du travail missionnaire. Les aspects d’évangélisation\, mais aussi le côté humanitaire\, social\, et compassionnel. Notre souhait serait que chacun puisse aussi découvrir comment il/elle peut être concerné par la mission (soutien par l’intérêt au travail fait\, par la prière\, par un apport financier\, mais aussi possibilité de s’investir soi-même !)
URL:https://actr.ch/event/soiree-priere-focus-fonds-missionnaire/
LOCATION:ACTR\, Chemin des Trois-Rois 5\, Lausanne\, 1005\, Suisse
ATTACH;FMTTYPE=image/jpeg:https://actr.ch/wp-content/uploads/2023/02/2023.04.04_SoireePriereFondsMi_Last.jpg
END:VEVENT
END:VCALENDAR