BEGIN:VCALENDAR
VERSION:2.0
PRODID:-//ACTR - ECPv6.2.9//NONSGML v1.0//EN
CALSCALE:GREGORIAN
METHOD:PUBLISH
X-ORIGINAL-URL:https://actr.ch
X-WR-CALDESC:évènements pour ACTR
REFRESH-INTERVAL;VALUE=DURATION:PT1H
X-Robots-Tag:noindex
X-PUBLISHED-TTL:PT1H
BEGIN:VTIMEZONE
TZID:Europe/Zurich
BEGIN:DAYLIGHT
TZOFFSETFROM:+0100
TZOFFSETTO:+0200
TZNAME:CEST
DTSTART:20230326T010000
END:DAYLIGHT
BEGIN:STANDARD
TZOFFSETFROM:+0200
TZOFFSETTO:+0100
TZNAME:CET
DTSTART:20231029T010000
END:STANDARD
END:VTIMEZONE
BEGIN:VEVENT
DTSTART;TZID=Europe/Zurich:20230402T100000
DTEND;TZID=Europe/Zurich:20230402T114500
DTSTAMP:20260422T234308
CREATED:20230211T220203Z
LAST-MODIFIED:20230318T220242Z
UID:6155-1680429600-1680435900@actr.ch
SUMMARY:Culte & Message biblique | Suis-je légitime pour SERVIR ?
DESCRIPTION:Dimanche 2 avril 2023 \n10h-11h45: Culte & Message biblique | Suis-je légitime pour SERVIR ? – Orateur: Matthieu Cuendet \n10h30-11h45: Ecole du dimanche & Garderie
URL:https://actr.ch/event/culte-message-biblique-servir/
LOCATION:ACTR\, Chemin des Trois-Rois 5\, Lausanne\, 1005\, Suisse
ATTACH;FMTTYPE=image/jpeg:https://actr.ch/wp-content/uploads/2023/02/2023.04.02_Servir_UneVisionPourNotreEglise.jpg
END:VEVENT
BEGIN:VEVENT
DTSTART;TZID=Europe/Zurich:20230402T120000
DTEND;TZID=Europe/Zurich:20230402T140000
DTSTAMP:20260422T234308
CREATED:20230313T141725Z
LAST-MODIFIED:20230313T141725Z
UID:6287-1680436800-1680444000@actr.ch
SUMMARY:Repas à l'église
DESCRIPTION:Dimanche 2 avril 2023 \nRepas à l’église\, pour celles et ceux qui ont rejoint l’église ces 12 derniers mois environ \nDès 12h \nInscription auprès de Thomas Saner | thomisaner@sunrise.ch
URL:https://actr.ch/event/repas-a-leglise/
LOCATION:ACTR\, Chemin des Trois-Rois 5\, Lausanne\, 1005\, Suisse
ATTACH;FMTTYPE=image/jpeg:https://actr.ch/wp-content/uploads/2023/03/2023.04.02_RepasDesNews.jpg
END:VEVENT
END:VCALENDAR