BEGIN:VCALENDAR
VERSION:2.0
PRODID:-//ACTR - ECPv6.2.9//NONSGML v1.0//EN
CALSCALE:GREGORIAN
METHOD:PUBLISH
X-ORIGINAL-URL:https://actr.ch
X-WR-CALDESC:évènements pour ACTR
REFRESH-INTERVAL;VALUE=DURATION:PT1H
X-Robots-Tag:noindex
X-PUBLISHED-TTL:PT1H
BEGIN:VTIMEZONE
TZID:Europe/Zurich
BEGIN:DAYLIGHT
TZOFFSETFROM:+0100
TZOFFSETTO:+0200
TZNAME:CEST
DTSTART:20230326T010000
END:DAYLIGHT
BEGIN:STANDARD
TZOFFSETFROM:+0200
TZOFFSETTO:+0100
TZNAME:CET
DTSTART:20231029T010000
END:STANDARD
END:VTIMEZONE
BEGIN:VEVENT
DTSTART;TZID=Europe/Zurich:20230314T200000
DTEND;TZID=Europe/Zurich:20230314T213000
DTSTAMP:20260423T010521
CREATED:20230211T214907Z
LAST-MODIFIED:20230227T212323Z
UID:6140-1678824000-1678829400@actr.ch
SUMMARY:Soirée témoignage Portes-Ouvertes
DESCRIPTION:Mardi 14 mars 2023 \nSoirée témoignage Portes-Ouvertes \n«Quand la vie te tend des citrons\, fais de la citronnade» \nNotre oratrice découvre Jésus très jeune\, et ses parents la chassent de la maison. Ils pensent qu’elle ne tiendra pas deux semaines.\nVingt ans plus tard\, elle rayonne toujours de l’amour de Dieu. Elle est une grande source de bénédiction pour beaucoup de chrétiens en Afrique du Nord. \nDe chrétienne persécutée à business-woman pétillante\, en mission pour Jésus 24h/24\, Malika (nom d’emprunt) a une méthode:\n«Quand la vie te tend des citrons\, fais de la citronnade!»\nDes rencontres pour entendre son témoignage stimulant et plein de vitamines et booster votre foi. \nEntrée libre\, collecte en faveur des projets femmes de Portes Ouvertes. \nToutes les informations de la tournée sont ici.
URL:https://actr.ch/event/temoignage-portes-ouvertes/
LOCATION:ACTR\, Chemin des Trois-Rois 5\, Lausanne\, 1005\, Suisse
ATTACH;FMTTYPE=image/jpeg:https://actr.ch/wp-content/uploads/2023/02/2023.03.14_SoireePortesOuvertes.jpg
END:VEVENT
END:VCALENDAR