BEGIN:VCALENDAR
VERSION:2.0
PRODID:-//ACTR - ECPv6.2.9//NONSGML v1.0//EN
CALSCALE:GREGORIAN
METHOD:PUBLISH
X-WR-CALNAME:ACTR
X-ORIGINAL-URL:https://actr.ch
X-WR-CALDESC:évènements pour ACTR
REFRESH-INTERVAL;VALUE=DURATION:PT1H
X-Robots-Tag:noindex
X-PUBLISHED-TTL:PT1H
BEGIN:VTIMEZONE
TZID:Europe/Zurich
BEGIN:DAYLIGHT
TZOFFSETFROM:+0100
TZOFFSETTO:+0200
TZNAME:CEST
DTSTART:20230326T010000
END:DAYLIGHT
BEGIN:STANDARD
TZOFFSETFROM:+0200
TZOFFSETTO:+0100
TZNAME:CET
DTSTART:20231029T010000
END:STANDARD
END:VTIMEZONE
BEGIN:VEVENT
DTSTART;TZID=Europe/Zurich:20230203T190000
DTEND;TZID=Europe/Zurich:20230205T170000
DTSTAMP:20260423T010056
CREATED:20221122T113338Z
LAST-MODIFIED:20230130T123755Z
UID:5704-1675450800-1675616400@actr.ch
SUMMARY:Weekend d'église
DESCRIPTION:Weekend d’église \nDu vendredi 3 février au dimanche 5 février\, en pension complète à la Bessonnaz \nPour finir la campagne ACTR 2023 en beauté \nMessage 5: Vivre\, c’est être unis dans l’espérance (Philippiens 3v16\, 20) – Orateur: Thomas Sanchez \nMessage 6: Vivre\, c’est courir pour gagner le Christ (Philippiens 3v12) – Orateur: Gérald Stocker \nTOUTES LES INFORMATIONS SONT DISPONIBLES ICI.
URL:https://actr.ch/event/weekend-deglise/
LOCATION:La Bessonne\, Lignerolle\, La Bessonne\, Lignerolle\, Suisse
ATTACH;FMTTYPE=image/jpeg:https://actr.ch/wp-content/uploads/2022/11/2023.02.03_WeekendDeglise.jpg
END:VEVENT
BEGIN:VEVENT
DTSTART;TZID=Europe/Zurich:20230205T093000
DTEND;TZID=Europe/Zurich:20230205T113000
DTSTAMP:20260423T010056
CREATED:20230130T073223Z
LAST-MODIFIED:20230130T123915Z
UID:6055-1675589400-1675596600@actr.ch
SUMMARY:Pas de culte à l'ACTR
DESCRIPTION:Il n’y aura pas de culte à l’ACTR le dimanche 5 février 2023. \nComme alternative\, d’autres cultes ont lieu dans la région\, comme à Renens\, Rue de la Savonnerie 7 à 9h30.
URL:https://actr.ch/event/pas-de-culte-aux-trois-rois/
ATTACH;FMTTYPE=image/jpeg:https://actr.ch/wp-content/uploads/2023/01/2023.01.29_infoCulte.jpg
END:VEVENT
END:VCALENDAR