BEGIN:VCALENDAR
VERSION:2.0
PRODID:-//ACTR - ECPv6.2.9//NONSGML v1.0//EN
CALSCALE:GREGORIAN
METHOD:PUBLISH
X-WR-CALNAME:ACTR
X-ORIGINAL-URL:https://actr.ch
X-WR-CALDESC:évènements pour ACTR
REFRESH-INTERVAL;VALUE=DURATION:PT1H
X-Robots-Tag:noindex
X-PUBLISHED-TTL:PT1H
BEGIN:VTIMEZONE
TZID:Europe/Zurich
BEGIN:DAYLIGHT
TZOFFSETFROM:+0100
TZOFFSETTO:+0200
TZNAME:CEST
DTSTART:20230326T010000
END:DAYLIGHT
BEGIN:STANDARD
TZOFFSETFROM:+0200
TZOFFSETTO:+0100
TZNAME:CET
DTSTART:20231029T010000
END:STANDARD
END:VTIMEZONE
BEGIN:VEVENT
DTSTART;TZID=Europe/Zurich:20230129T100000
DTEND;TZID=Europe/Zurich:20230129T114500
DTSTAMP:20260423T023104
CREATED:20221122T113016Z
LAST-MODIFIED:20221225T004756Z
UID:5702-1674986400-1674992700@actr.ch
SUMMARY:Culte & 4ème message de campagne | Vivre\, c’est régler le passé et regarder vers l’avenir
DESCRIPTION:Dimanche 29 janvier 2023 \n10h-11h45: Culte & 4ème message de la campagne | Vivre\, c’est régler le passé et regarder vers l’avenir \nEtude de Philippiens 3v13-14 – Orateur: Clément Friderici \n10h30-11h45: Ecole du dimanche & Garderie
URL:https://actr.ch/event/culte-4eme-message-de-campagne-vivre-cest-regler-le-passe-et-regarder-vers-lavenir/
LOCATION:ACTR\, Chemin des Trois-Rois 5\, Lausanne\, 1005\, Suisse
ATTACH;FMTTYPE=image/jpeg:https://actr.ch/wp-content/uploads/2022/11/fond-pour-site.jpg
END:VEVENT
END:VCALENDAR