BEGIN:VCALENDAR
VERSION:2.0
PRODID:-//ACTR - ECPv6.2.9//NONSGML v1.0//EN
CALSCALE:GREGORIAN
METHOD:PUBLISH
X-WR-CALNAME:ACTR
X-ORIGINAL-URL:https://actr.ch
X-WR-CALDESC:évènements pour ACTR
REFRESH-INTERVAL;VALUE=DURATION:PT1H
X-Robots-Tag:noindex
X-PUBLISHED-TTL:PT1H
BEGIN:VTIMEZONE
TZID:Europe/Zurich
BEGIN:DAYLIGHT
TZOFFSETFROM:+0100
TZOFFSETTO:+0200
TZNAME:CEST
DTSTART:20230326T010000
END:DAYLIGHT
BEGIN:STANDARD
TZOFFSETFROM:+0200
TZOFFSETTO:+0100
TZNAME:CET
DTSTART:20231029T010000
END:STANDARD
END:VTIMEZONE
BEGIN:VEVENT
DTSTART;TZID=Europe/Zurich:20230128T093000
DTEND;TZID=Europe/Zurich:20230128T170000
DTSTAMP:20260423T023128
CREATED:20221123T214821Z
LAST-MODIFIED:20221123T214846Z
UID:5732-1674898200-1674925200@actr.ch
SUMMARY:Pour Eux | L'église: De la maintenance à la mission
DESCRIPTION:Dimanche 28 janvier 2023 \n9h30-17h00: Pour Eux | L’église: De la maintenance à la mission \nOrateur: Jérémie Kouyoumdjian \nDans les locaux de l’ACTR. \n  \nGuerre\, inflation\, incertitudes\, inquiétudes\, stress\, climat\, énergie : ces mots anxiogènes résonnent chaque jour autour de nous.\nEt si Dieu donnait la mission à son église -y compris l’ACTR ! – d’être un canal d’espérance et de vie pour le monde ? \nNous nous posons des questions sur le sens de notre vie et sur le rôle notre église aujourd’hui…  L’orateur n’apportera pas de réponses toutes faites ; mais il ouvrira des pistes : la mission de l’église\, l’écoute de Dieu\, l’engagement de chacun comme disciple\, la capacité de rencontrer ou accueillir des “non-encore-chrétiens“.\nUne journée de réflexion-partage ranimera notre désir de dépasser les routines et de remplir notre mission de témoins actifs ! \nVous êtes donc chaleureusement invités (messieurs…) à participer à cette journée. Le plus sûr est de vous inscrire sans attendre\, via Jacqueline Bille ou plus simplement par le lien suivant :\nhttps://forms.gle/jx2NH3GpEXnShqn3A \nAvec les salutations fraternelles de : \nBenoît Pfister\, Clément Friderici\, Jean Lacombe \nEt des autres organisateurs :  Fabien Bourgeois\, Florent Larribau\, Jean-Jacques Bourgeois\, Lionel Rochat\, Marc Varidel\, Paul-Henri Pfister
URL:https://actr.ch/event/5732/
LOCATION:ACTR\, Chemin des Trois-Rois 5\, Lausanne\, 1005\, Suisse
ATTACH;FMTTYPE=image/jpeg:https://actr.ch/wp-content/uploads/2022/11/2023.01.28_PourEux.jpg
END:VEVENT
END:VCALENDAR