BEGIN:VCALENDAR
VERSION:2.0
PRODID:-//ACTR - ECPv6.2.9//NONSGML v1.0//EN
CALSCALE:GREGORIAN
METHOD:PUBLISH
X-ORIGINAL-URL:https://actr.ch
X-WR-CALDESC:évènements pour ACTR
REFRESH-INTERVAL;VALUE=DURATION:PT1H
X-Robots-Tag:noindex
X-PUBLISHED-TTL:PT1H
BEGIN:VTIMEZONE
TZID:Europe/Zurich
BEGIN:DAYLIGHT
TZOFFSETFROM:+0100
TZOFFSETTO:+0200
TZNAME:CEST
DTSTART:20230326T010000
END:DAYLIGHT
BEGIN:STANDARD
TZOFFSETFROM:+0200
TZOFFSETTO:+0100
TZNAME:CET
DTSTART:20231029T010000
END:STANDARD
END:VTIMEZONE
BEGIN:VEVENT
DTSTART;TZID=Europe/Zurich:20230101T100000
DTEND;TZID=Europe/Zurich:20230101T114500
DTSTAMP:20260423T022525
CREATED:20221122T111433Z
LAST-MODIFIED:20221225T005843Z
UID:5692-1672567200-1672573500@actr.ch
SUMMARY:Culte & Message biblique libre
DESCRIPTION:Dimanche 1 janvier 2023 \n10h-11h45: Culte & Message biblique libre
URL:https://actr.ch/event/culte-message-biblique-libre-3/
LOCATION:ACTR\, Chemin des Trois-Rois 5\, Lausanne\, 1005\, Suisse
ATTACH;FMTTYPE=image/jpeg:https://actr.ch/wp-content/uploads/2022/11/2023.01.01_new.year_.jpg
END:VEVENT
END:VCALENDAR