BEGIN:VCALENDAR
VERSION:2.0
PRODID:-//ACTR - ECPv6.2.9//NONSGML v1.0//EN
CALSCALE:GREGORIAN
METHOD:PUBLISH
X-ORIGINAL-URL:https://actr.ch
X-WR-CALDESC:évènements pour ACTR
REFRESH-INTERVAL;VALUE=DURATION:PT1H
X-Robots-Tag:noindex
X-PUBLISHED-TTL:PT1H
BEGIN:VTIMEZONE
TZID:Europe/Zurich
BEGIN:DAYLIGHT
TZOFFSETFROM:+0100
TZOFFSETTO:+0200
TZNAME:CEST
DTSTART:20220327T010000
END:DAYLIGHT
BEGIN:STANDARD
TZOFFSETFROM:+0200
TZOFFSETTO:+0100
TZNAME:CET
DTSTART:20221030T010000
END:STANDARD
END:VTIMEZONE
BEGIN:VEVENT
DTSTART;TZID=Europe/Zurich:20221211T120000
DTEND;TZID=Europe/Zurich:20221211T160000
DTSTAMP:20260423T082056
CREATED:20251007T114601Z
LAST-MODIFIED:20251007T114601Z
UID:9456-1670760000-1670774400@actr.ch
SUMMARY:Fête de Noël
DESCRIPTION:Dimanche 14 décembre 2025 \nFÊTE DE NOËL \nAgape & Animation
URL:https://actr.ch/event/fete-de-noel-3/
LOCATION:ACTR\, Chemin des Trois-Rois 5\, Lausanne\, 1005\, Suisse
ATTACH;FMTTYPE=image/jpeg:https://actr.ch/wp-content/uploads/2025/10/2025.12.14_FeteDeNoel.jpg
END:VEVENT
BEGIN:VEVENT
DTSTART;TZID=Europe/Zurich:20221211T143000
DTEND;TZID=Europe/Zurich:20221211T193000
DTSTAMP:20260423T082056
CREATED:20221007T222337Z
LAST-MODIFIED:20221123T205723Z
UID:5438-1670769000-1670787000@actr.ch
SUMMARY:Fête de Noël
DESCRIPTION:Dimanche 11 décembre 2022 \nFête de Noël \n14h30: Ouverture des stands\, avec thé & vin chaud ainsi que décoration de pain d’épices pour les enfants. \n15h30: Concert-culte de Noël \n17h30: Agape de Noël\, sous forme de grand buffet canadien \n  \nMerci beaucoup d’aider à des tâches pratiques ! → Formulaire pour s’inscrire comme bénévole ← \n  \nPas de culte le matin.
URL:https://actr.ch/event/fete-de-noel-2/
LOCATION:ACTR\, Chemin des Trois-Rois 5\, Lausanne\, 1005\, Suisse
ATTACH;FMTTYPE=image/png:https://actr.ch/wp-content/uploads/2022/10/2022.12.11_Fete_Details.png
END:VEVENT
END:VCALENDAR