BEGIN:VCALENDAR
VERSION:2.0
PRODID:-//ACTR - ECPv6.2.9//NONSGML v1.0//EN
CALSCALE:GREGORIAN
METHOD:PUBLISH
X-WR-CALNAME:ACTR
X-ORIGINAL-URL:https://actr.ch
X-WR-CALDESC:évènements pour ACTR
REFRESH-INTERVAL;VALUE=DURATION:PT1H
X-Robots-Tag:noindex
X-PUBLISHED-TTL:PT1H
BEGIN:VTIMEZONE
TZID:Europe/Zurich
BEGIN:DAYLIGHT
TZOFFSETFROM:+0100
TZOFFSETTO:+0200
TZNAME:CEST
DTSTART:20220327T010000
END:DAYLIGHT
BEGIN:STANDARD
TZOFFSETFROM:+0200
TZOFFSETTO:+0100
TZNAME:CET
DTSTART:20221030T010000
END:STANDARD
END:VTIMEZONE
BEGIN:VEVENT
DTSTART;TZID=Europe/Zurich:20221204T100000
DTEND;TZID=Europe/Zurich:20221204T114500
DTSTAMP:20260423T182816
CREATED:20221007T221831Z
LAST-MODIFIED:20221017T204045Z
UID:5428-1670148000-1670154300@actr.ch
SUMMARY:Culte & Message biblique
DESCRIPTION:Dimanche 4 décembre 2022 \n10h-11h45: Culte & Message biblique – Présentation des [nouveaux] enfants \n10h30-11h45: Ecole du dimanche & Minicell
URL:https://actr.ch/event/culte-message-biblique-90/
LOCATION:ACTR\, Chemin des Trois-Rois 5\, Lausanne\, 1005\, Suisse
ATTACH;FMTTYPE=image/jpeg:https://actr.ch/wp-content/uploads/2022/10/2022.12.04_PresentationDesBebes.jpg
END:VEVENT
BEGIN:VEVENT
DTSTART;TZID=Europe/Zurich:20221204T103000
DTEND;TZID=Europe/Zurich:20221204T114500
DTSTAMP:20260423T182816
CREATED:20221007T221951Z
LAST-MODIFIED:20221127T190355Z
UID:5431-1670149800-1670154300@actr.ch
SUMMARY:Minicell
DESCRIPTION:Dimanche 4 décembre 2022 \n10h30-11h45: Minicell\, pour les 0-3 ans
URL:https://actr.ch/event/minicell-6/
LOCATION:ACTR\, Chemin des Trois-Rois 5\, Lausanne\, 1005\, Suisse
ATTACH;FMTTYPE=image/jpeg:https://actr.ch/wp-content/uploads/2022/10/2022.12.04_Minicell-1.jpg
END:VEVENT
END:VCALENDAR