BEGIN:VCALENDAR
VERSION:2.0
PRODID:-//ACTR - ECPv6.2.9//NONSGML v1.0//EN
CALSCALE:GREGORIAN
METHOD:PUBLISH
X-ORIGINAL-URL:https://actr.ch
X-WR-CALDESC:évènements pour ACTR
REFRESH-INTERVAL;VALUE=DURATION:PT1H
X-Robots-Tag:noindex
X-PUBLISHED-TTL:PT1H
BEGIN:VTIMEZONE
TZID:Europe/Zurich
BEGIN:DAYLIGHT
TZOFFSETFROM:+0100
TZOFFSETTO:+0200
TZNAME:CEST
DTSTART:20220327T010000
END:DAYLIGHT
BEGIN:STANDARD
TZOFFSETFROM:+0200
TZOFFSETTO:+0100
TZNAME:CET
DTSTART:20221030T010000
END:STANDARD
END:VTIMEZONE
BEGIN:VEVENT
DTSTART;TZID=Europe/Zurich:20221124T140000
DTEND;TZID=Europe/Zurich:20221124T160000
DTSTAMP:20260425T133745
CREATED:20221107T195140Z
LAST-MODIFIED:20221107T195140Z
UID:5521-1669298400-1669305600@actr.ch
SUMMARY:Atelier d'après-midi
DESCRIPTION:Jeudi 24 novembre 2022 \nAtelier d’après-midi \n14-16h: Création de chaînes-décorative \nInscription nécessaire auprès d’Antoinette [078.738.89.73] Places limitées & participation aux frais.
URL:https://actr.ch/event/atelier-dapres-midi/
LOCATION:ACTR\, Chemin des Trois-Rois 5\, Lausanne\, 1005\, Suisse
ATTACH;FMTTYPE=image/png:https://actr.ch/wp-content/uploads/2022/11/2022.11.24_AtelierDapresmidi.png
END:VEVENT
END:VCALENDAR