BEGIN:VCALENDAR
VERSION:2.0
PRODID:-//ACTR - ECPv6.2.9//NONSGML v1.0//EN
CALSCALE:GREGORIAN
METHOD:PUBLISH
X-WR-CALNAME:ACTR
X-ORIGINAL-URL:https://actr.ch
X-WR-CALDESC:évènements pour ACTR
REFRESH-INTERVAL;VALUE=DURATION:PT1H
X-Robots-Tag:noindex
X-PUBLISHED-TTL:PT1H
BEGIN:VTIMEZONE
TZID:Europe/Zurich
BEGIN:DAYLIGHT
TZOFFSETFROM:+0100
TZOFFSETTO:+0200
TZNAME:CEST
DTSTART:20220327T010000
END:DAYLIGHT
BEGIN:STANDARD
TZOFFSETFROM:+0200
TZOFFSETTO:+0100
TZNAME:CET
DTSTART:20221030T010000
END:STANDARD
END:VTIMEZONE
BEGIN:VEVENT
DTSTART;TZID=Europe/Zurich:20221113T100000
DTEND;TZID=Europe/Zurich:20221113T114500
DTSTAMP:20260423T111115
CREATED:20220919T101647Z
LAST-MODIFIED:20221108T100050Z
UID:5355-1668333600-1668339900@actr.ch
SUMMARY:Culte & Message biblique
DESCRIPTION:Dimanche 13 novembre 2022 \n10h-11h45: Culte & Message biblique | L’église persécutée – Orateur: Raymond F. \nCollecte spéciale pour les réfugiés Afghans: soutien pour l’hébergement et la subsistance de réfugiés chrétiens dans un pays adjacent à forte majorité musulmane\nCCP: 10-274393-2\, Portes ouvertes Suisse\, mention “Réfugiés afghans” \n10h30-11h45: Minicell & Ecole du dimanche
URL:https://actr.ch/event/culte-message-biblique-88/
LOCATION:ACTR\, Chemin des Trois-Rois 5\, Lausanne\, 1005\, Suisse
ATTACH;FMTTYPE=image/jpeg:https://actr.ch/wp-content/uploads/2022/09/2022.11.13_EglisePer.jpg
END:VEVENT
BEGIN:VEVENT
DTSTART;TZID=Europe/Zurich:20221113T103000
DTEND;TZID=Europe/Zurich:20221113T114500
DTSTAMP:20260423T111115
CREATED:20220919T101846Z
LAST-MODIFIED:20220919T102610Z
UID:5359-1668335400-1668339900@actr.ch
SUMMARY:Minicell
DESCRIPTION:Dimanche 13 novembre 2022 \n10h30-11h45: Minicell\, pour les 0-3 ans \nAnimé par Justine
URL:https://actr.ch/event/minicell-5/
LOCATION:ACTR\, Chemin des Trois-Rois 5\, Lausanne\, 1005\, Suisse
ATTACH;FMTTYPE=image/jpeg:https://actr.ch/wp-content/uploads/2022/09/2022.10.13_minicell.jpg
END:VEVENT
BEGIN:VEVENT
DTSTART;TZID=Europe/Zurich:20221113T120000
DTEND;TZID=Europe/Zurich:20221113T160000
DTSTAMP:20260423T111115
CREATED:20221016T231319Z
LAST-MODIFIED:20221017T142149Z
UID:5461-1668340800-1668355200@actr.ch
SUMMARY:Repas invité-invitant
DESCRIPTION:Dimanche 13 novembre 2022 \nRepas invité-invitant.  \nLes moments d’échanges et de partages sont précieux. Pour que ces liens puissent être entretenus\, un repas convivial entre générations vous est proposé. Deux possibilités s’ouvrent à vous: recevoir à votre table  [ou]  être invité. \nMerci de vous inscrire jusqu’au 31 octobre auprès de Sylviane M. \nPour voir le recto & le verso du flyer\, c’est ici.
URL:https://actr.ch/event/repas-invite-invitant/
ATTACH;FMTTYPE=image/jpeg:https://actr.ch/wp-content/uploads/2022/10/2022.11.13_RepasInvite-invitant_Recto.jpg
END:VEVENT
END:VCALENDAR