BEGIN:VCALENDAR
VERSION:2.0
PRODID:-//ACTR - ECPv6.2.9//NONSGML v1.0//EN
CALSCALE:GREGORIAN
METHOD:PUBLISH
X-WR-CALNAME:ACTR
X-ORIGINAL-URL:https://actr.ch
X-WR-CALDESC:évènements pour ACTR
REFRESH-INTERVAL;VALUE=DURATION:PT1H
X-Robots-Tag:noindex
X-PUBLISHED-TTL:PT1H
BEGIN:VTIMEZONE
TZID:Europe/Zurich
BEGIN:DAYLIGHT
TZOFFSETFROM:+0100
TZOFFSETTO:+0200
TZNAME:CEST
DTSTART:20220327T010000
END:DAYLIGHT
BEGIN:STANDARD
TZOFFSETFROM:+0200
TZOFFSETTO:+0100
TZNAME:CET
DTSTART:20221030T010000
END:STANDARD
END:VTIMEZONE
BEGIN:VEVENT
DTSTART;TZID=Europe/Zurich:20221106T100000
DTEND;TZID=Europe/Zurich:20221106T114500
DTSTAMP:20260423T052130
CREATED:20220919T101225Z
LAST-MODIFIED:20220919T101225Z
UID:5350-1667728800-1667735100@actr.ch
SUMMARY:Culte & Troisième conférence spécial famille au sens large
DESCRIPTION:Dimanche 6 novembre 2022 \n10h: Culte \n11h: Conférence de Thierry & Monique Juvet \n10h30-11h45: Garderie & Ecole du dimanche
URL:https://actr.ch/event/culte-troisieme-conference-special-famille-au-sens-large/
LOCATION:ACTR\, Chemin des Trois-Rois 5\, Lausanne\, 1005\, Suisse
ATTACH;FMTTYPE=image/jpeg:https://actr.ch/wp-content/uploads/2022/09/Cartepostale_fond-4sept.jpg
END:VEVENT
BEGIN:VEVENT
DTSTART;TZID=Europe/Zurich:20221106T110000
DTEND;TZID=Europe/Zurich:20221106T114500
DTSTAMP:20260423T052130
CREATED:20220919T101532Z
LAST-MODIFIED:20220921T191144Z
UID:5352-1667732400-1667735100@actr.ch
SUMMARY:Troisième conférence spécial famille au sens large: Les conflits\, une école de l'amour
DESCRIPTION:Dimanche 6 novembre 2022 \n11h: Conférence de Thierry & Monique Juvet: Les conflits\, une école de l’amour
URL:https://actr.ch/event/troisieme-conference-special-famille-au-sens-large-les-conflits-une-ecole-de-lamour/
LOCATION:ACTR\, Chemin des Trois-Rois 5\, Lausanne\, 1005\, Suisse
ATTACH;FMTTYPE=image/png:https://actr.ch/wp-content/uploads/2022/09/Conf3_SpecialFamille.png
END:VEVENT
END:VCALENDAR