BEGIN:VCALENDAR
VERSION:2.0
PRODID:-//ACTR - ECPv6.2.9//NONSGML v1.0//EN
CALSCALE:GREGORIAN
METHOD:PUBLISH
X-WR-CALNAME:ACTR
X-ORIGINAL-URL:https://actr.ch
X-WR-CALDESC:évènements pour ACTR
REFRESH-INTERVAL;VALUE=DURATION:PT1H
X-Robots-Tag:noindex
X-PUBLISHED-TTL:PT1H
BEGIN:VTIMEZONE
TZID:Europe/Zurich
BEGIN:DAYLIGHT
TZOFFSETFROM:+0100
TZOFFSETTO:+0200
TZNAME:CEST
DTSTART:20220327T010000
END:DAYLIGHT
BEGIN:STANDARD
TZOFFSETFROM:+0200
TZOFFSETTO:+0100
TZNAME:CET
DTSTART:20221030T010000
END:STANDARD
END:VTIMEZONE
BEGIN:VEVENT
DTSTART;TZID=Europe/Zurich:20220907T143000
DTEND;TZID=Europe/Zurich:20220907T163000
DTSTAMP:20260423T182854
CREATED:20220829T205742Z
LAST-MODIFIED:20220909T204430Z
UID:5249-1662561000-1662568200@actr.ch
SUMMARY:Groupe de l'amitié
DESCRIPTION:Mercredi 7 septembre 2022 \nDès 14h30: Conférence de la Mission Braille\, suivie d’une collation \nPlus de détails\, ici. \nInscription auprès de Anne-Lise Flaction flaction33@bluewin.ch – 021 731 16 58 – 079 646 86 83
URL:https://actr.ch/event/groupe-de-lamitie/
LOCATION:ACTR\, Chemin des Trois-Rois 5\, Lausanne\, 1005\, Suisse
ATTACH;FMTTYPE=image/jpeg:https://actr.ch/wp-content/uploads/2022/08/2022.09.07_GroupeDelamitie.jpg
END:VEVENT
END:VCALENDAR