BEGIN:VCALENDAR
VERSION:2.0
PRODID:-//ACTR - ECPv6.2.9//NONSGML v1.0//EN
CALSCALE:GREGORIAN
METHOD:PUBLISH
X-WR-CALNAME:ACTR
X-ORIGINAL-URL:https://actr.ch
X-WR-CALDESC:évènements pour ACTR
REFRESH-INTERVAL;VALUE=DURATION:PT1H
X-Robots-Tag:noindex
X-PUBLISHED-TTL:PT1H
BEGIN:VTIMEZONE
TZID:Europe/Zurich
BEGIN:DAYLIGHT
TZOFFSETFROM:+0100
TZOFFSETTO:+0200
TZNAME:CEST
DTSTART:20220327T010000
END:DAYLIGHT
BEGIN:STANDARD
TZOFFSETFROM:+0200
TZOFFSETTO:+0100
TZNAME:CET
DTSTART:20221030T010000
END:STANDARD
END:VTIMEZONE
BEGIN:VEVENT
DTSTART;TZID=Europe/Zurich:20220904T100000
DTEND;TZID=Europe/Zurich:20220904T150000
DTSTAMP:20260423T232821
CREATED:20220817T141605Z
LAST-MODIFIED:20220817T141605Z
UID:5188-1662285600-1662303600@actr.ch
SUMMARY:Culte & Première conférence "Spécial Famille au sens large"
DESCRIPTION:Dimanche 4 septembre 2022 \nProgramme: \n10h: Culte \n11h: Conférence de Guy Zeller \n12h30: Repas préparé par l’ACTR \n13h30-15h: Ateliers animés par Guy Zeller et Noémie & Loïc Marsch; animation prévue pour les enfants
URL:https://actr.ch/event/culte-premiere-conference-special-famille-au-sens-large/
LOCATION:ACTR\, Chemin des Trois-Rois 5\, Lausanne\, 1005\, Suisse
ATTACH;FMTTYPE=image/jpeg:https://actr.ch/wp-content/uploads/2022/08/2022.09.04_dim.jpg
END:VEVENT
BEGIN:VEVENT
DTSTART;TZID=Europe/Zurich:20220904T110000
DTEND;TZID=Europe/Zurich:20220904T150000
DTSTAMP:20260423T232821
CREATED:20220817T141756Z
LAST-MODIFIED:20220822T203450Z
UID:5192-1662289200-1662303600@actr.ch
SUMMARY:Première conférence Spécial Famille au sens large: Une vision pour les enfants dans l'église
DESCRIPTION:Dimanche 4 septembre 2022 \n11h: Conférence de Guy Zeller [Une vision pour les enfants dans l’église] \n12h30: Repas préparé par l’ACTR \n13h30-15h: Ateliers animés par Guy Zeller et Noémie & Loïc Marsch: 1) Devenir des pères et des mères qui reflètent le Père 2) Vivre la foi en famille – Animation prévue pour les enfants
URL:https://actr.ch/event/premiere-conference-special-famille-au-sens-large/
LOCATION:ACTR\, Chemin des Trois-Rois 5\, Lausanne\, 1005\, Suisse
ATTACH;FMTTYPE=image/jpeg:https://actr.ch/wp-content/uploads/2022/08/2022.09.04_Une-vision-pour-les-enfants-dans-leglise.jpg
END:VEVENT
END:VCALENDAR