BEGIN:VCALENDAR
VERSION:2.0
PRODID:-//ACTR - ECPv6.2.9//NONSGML v1.0//EN
CALSCALE:GREGORIAN
METHOD:PUBLISH
X-WR-CALNAME:ACTR
X-ORIGINAL-URL:https://actr.ch
X-WR-CALDESC:évènements pour ACTR
REFRESH-INTERVAL;VALUE=DURATION:PT1H
X-Robots-Tag:noindex
X-PUBLISHED-TTL:PT1H
BEGIN:VTIMEZONE
TZID:Europe/Zurich
BEGIN:DAYLIGHT
TZOFFSETFROM:+0100
TZOFFSETTO:+0200
TZNAME:CEST
DTSTART:20220327T010000
END:DAYLIGHT
BEGIN:STANDARD
TZOFFSETFROM:+0200
TZOFFSETTO:+0100
TZNAME:CET
DTSTART:20221030T010000
END:STANDARD
END:VTIMEZONE
BEGIN:VEVENT
DTSTART;TZID=Europe/Zurich:20220826T190000
DTEND;TZID=Europe/Zurich:20220826T220000
DTSTAMP:20260423T153705
CREATED:20220822T204016Z
LAST-MODIFIED:20220822T204016Z
UID:5200-1661540400-1661551200@actr.ch
SUMMARY:Soirée Jeux
DESCRIPTION:Vendredi 26 août 2022 \nDès 19h pour pique-niquer \nDès 19h30 pour jouer
URL:https://actr.ch/event/soiree-jeux/
LOCATION:ACTR\, Chemin des Trois-Rois 5\, Lausanne\, 1005\, Suisse
ATTACH;FMTTYPE=image/jpeg:https://actr.ch/wp-content/uploads/2022/08/2022.08.26_Soiree-jeux.jpg
END:VEVENT
END:VCALENDAR