BEGIN:VCALENDAR
VERSION:2.0
PRODID:-//ACTR - ECPv6.2.9//NONSGML v1.0//EN
CALSCALE:GREGORIAN
METHOD:PUBLISH
X-WR-CALNAME:ACTR
X-ORIGINAL-URL:https://actr.ch
X-WR-CALDESC:évènements pour ACTR
REFRESH-INTERVAL;VALUE=DURATION:PT1H
X-Robots-Tag:noindex
X-PUBLISHED-TTL:PT1H
BEGIN:VTIMEZONE
TZID:Europe/Zurich
BEGIN:DAYLIGHT
TZOFFSETFROM:+0100
TZOFFSETTO:+0200
TZNAME:CEST
DTSTART:20220327T010000
END:DAYLIGHT
BEGIN:STANDARD
TZOFFSETFROM:+0200
TZOFFSETTO:+0100
TZNAME:CET
DTSTART:20221030T010000
END:STANDARD
END:VTIMEZONE
BEGIN:VEVENT
DTSTART;TZID=Europe/Zurich:20220814T100000
DTEND;TZID=Europe/Zurich:20220814T114500
DTSTAMP:20260423T123847
CREATED:20220715T114855Z
LAST-MODIFIED:20220817T134910Z
UID:5126-1660471200-1660477500@actr.ch
SUMMARY:Culte & Message biblique
DESCRIPTION:Dimanche 14 août 2022 \nProgramme: \n10h00-11h45: Culte & Message biblique libre\, Fête d’inauguration du local suivie d’un apéro \n10h30-11h45: Garderie pour les 0-10 ans
URL:https://actr.ch/event/culte-message-biblique-80/
LOCATION:ACTR\, Chemin des Trois-Rois 5\, Lausanne\, 1005\, Suisse
ATTACH;FMTTYPE=image/png:https://actr.ch/wp-content/uploads/2022/07/Inaugurationlocal.aout2022.png
END:VEVENT
END:VCALENDAR