BEGIN:VCALENDAR
VERSION:2.0
PRODID:-//ACTR - ECPv6.2.9//NONSGML v1.0//EN
CALSCALE:GREGORIAN
METHOD:PUBLISH
X-ORIGINAL-URL:https://actr.ch
X-WR-CALDESC:évènements pour ACTR
REFRESH-INTERVAL;VALUE=DURATION:PT1H
X-Robots-Tag:noindex
X-PUBLISHED-TTL:PT1H
BEGIN:VTIMEZONE
TZID:Europe/Zurich
BEGIN:DAYLIGHT
TZOFFSETFROM:+0100
TZOFFSETTO:+0200
TZNAME:CEST
DTSTART:20220327T010000
END:DAYLIGHT
BEGIN:STANDARD
TZOFFSETFROM:+0200
TZOFFSETTO:+0100
TZNAME:CET
DTSTART:20221030T010000
END:STANDARD
END:VTIMEZONE
BEGIN:VEVENT
DTSTART;TZID=Europe/Zurich:20220717T100000
DTEND;TZID=Europe/Zurich:20220717T114500
DTSTAMP:20260423T234802
CREATED:20220625T211306Z
LAST-MODIFIED:20220715T114405Z
UID:5081-1658052000-1658058300@actr.ch
SUMMARY:Culte & Message biblique
DESCRIPTION:Dimanche 17 juillet 2022 \nProgramme: \n10h00-11h45: Culte introduit par des témoignages de camps & Message biblique libre \nDès 10h30: Garderie ouverte pour les 0-10 ans
URL:https://actr.ch/event/culte-message-biblique-76/
LOCATION:ACTR\, Chemin des Trois-Rois 5\, Lausanne\, 1005\, Suisse
ATTACH;FMTTYPE=image/jpeg:https://actr.ch/wp-content/uploads/2022/06/ete-fleurs.jpg
END:VEVENT
END:VCALENDAR