BEGIN:VCALENDAR
VERSION:2.0
PRODID:-//ACTR - ECPv6.2.9//NONSGML v1.0//EN
CALSCALE:GREGORIAN
METHOD:PUBLISH
X-ORIGINAL-URL:https://actr.ch
X-WR-CALDESC:évènements pour ACTR
REFRESH-INTERVAL;VALUE=DURATION:PT1H
X-Robots-Tag:noindex
X-PUBLISHED-TTL:PT1H
BEGIN:VTIMEZONE
TZID:Europe/Zurich
BEGIN:DAYLIGHT
TZOFFSETFROM:+0100
TZOFFSETTO:+0200
TZNAME:CEST
DTSTART:20220327T010000
END:DAYLIGHT
BEGIN:STANDARD
TZOFFSETFROM:+0200
TZOFFSETTO:+0100
TZNAME:CET
DTSTART:20221030T010000
END:STANDARD
END:VTIMEZONE
BEGIN:VEVENT
DTSTART;TZID=Europe/Zurich:20220702T093000
DTEND;TZID=Europe/Zurich:20220702T130000
DTSTAMP:20260424T012208
CREATED:20220523T085234Z
LAST-MODIFIED:20220628T073751Z
UID:4999-1656754200-1656766800@actr.ch
SUMMARY:Sortie accrobranche pour les enfants
DESCRIPTION:Sortie de l’école du dimanche\, garderie & groupe de jeunes en [accrobranche] \nAu Signal de Bougy \nProgramme:  \nDès 9h30: Cafés & croissants \nDès 10h: accrobranche pour les enfants dès 4 ans; place de jeux pour les plus petits \nEnfants\, parents & moniteurs partageront ensuite un pique-nique sorti du sac !
URL:https://actr.ch/event/sortie-accrobranche-pour-les-enfants/
LOCATION:Signal de Bougy\, Route du Signal\, Bougy-Villars\, 1172\, Suisse
CATEGORIES:Activités
ATTACH;FMTTYPE=image/png:https://actr.ch/wp-content/uploads/2022/05/2022.07.02_accrobranche.png
END:VEVENT
END:VCALENDAR