BEGIN:VCALENDAR
VERSION:2.0
PRODID:-//ACTR - ECPv6.2.9//NONSGML v1.0//EN
CALSCALE:GREGORIAN
METHOD:PUBLISH
X-ORIGINAL-URL:https://actr.ch
X-WR-CALDESC:évènements pour ACTR
REFRESH-INTERVAL;VALUE=DURATION:PT1H
X-Robots-Tag:noindex
X-PUBLISHED-TTL:PT1H
BEGIN:VTIMEZONE
TZID:Europe/Zurich
BEGIN:DAYLIGHT
TZOFFSETFROM:+0100
TZOFFSETTO:+0200
TZNAME:CEST
DTSTART:20220327T010000
END:DAYLIGHT
BEGIN:STANDARD
TZOFFSETFROM:+0200
TZOFFSETTO:+0100
TZNAME:CET
DTSTART:20221030T010000
END:STANDARD
END:VTIMEZONE
BEGIN:VEVENT
DTSTART;TZID=Europe/Zurich:20220602T100000
DTEND;TZID=Europe/Zurich:20220602T140000
DTSTAMP:20260423T232834
CREATED:20220523T083208Z
LAST-MODIFIED:20220523T083208Z
UID:4995-1654164000-1654178400@actr.ch
SUMMARY:Jeux & Amitié
DESCRIPTION:Jeux et Amitié \nMoment de partage convivial avec des jeux suivi d’un repas \nInscriptions: janelysegolay@yahoo.fr \n 
URL:https://actr.ch/event/jeux-amitie-2/
LOCATION:ACTR\, Chemin des Trois-Rois 5\, Lausanne\, 1005\, Suisse
CATEGORIES:Activités
ATTACH;FMTTYPE=image/jpeg:https://actr.ch/wp-content/uploads/2022/04/ACTR_JeuxAmitieės_flyer_3.6.21.jpg
END:VEVENT
END:VCALENDAR