BEGIN:VCALENDAR
VERSION:2.0
PRODID:-//ACTR - ECPv6.2.9//NONSGML v1.0//EN
CALSCALE:GREGORIAN
METHOD:PUBLISH
X-WR-CALNAME:ACTR
X-ORIGINAL-URL:https://actr.ch
X-WR-CALDESC:évènements pour ACTR
REFRESH-INTERVAL;VALUE=DURATION:PT1H
X-Robots-Tag:noindex
X-PUBLISHED-TTL:PT1H
BEGIN:VTIMEZONE
TZID:Europe/Zurich
BEGIN:DAYLIGHT
TZOFFSETFROM:+0100
TZOFFSETTO:+0200
TZNAME:CEST
DTSTART:20220327T010000
END:DAYLIGHT
BEGIN:STANDARD
TZOFFSETFROM:+0200
TZOFFSETTO:+0100
TZNAME:CET
DTSTART:20221030T010000
END:STANDARD
END:VTIMEZONE
BEGIN:VEVENT
DTSTART;TZID=Europe/Zurich:20220529T100000
DTEND;TZID=Europe/Zurich:20220529T114500
DTSTAMP:20260424T005836
CREATED:20220517T054520Z
LAST-MODIFIED:20220523T082852Z
UID:4978-1653818400-1653824700@actr.ch
SUMMARY:Culte & message biblique
DESCRIPTION:Dimanche 29 mai \nProgramme: \n10h00-11h00: Culte de l’Ascension \n11h00-11h45: Message biblique:  sujet libre\n \n  \n10h30-11h45: Garderie ouverte mais pas d’école du dimanche
URL:https://actr.ch/event/culte-message-biblique-69/
LOCATION:ACTR\, Chemin des Trois-Rois 5\, Lausanne\, 1005\, Suisse
ATTACH;FMTTYPE=image/jpeg:https://actr.ch/wp-content/uploads/2017/05/Culte-11.06.2017.jpg
END:VEVENT
END:VCALENDAR