BEGIN:VCALENDAR
VERSION:2.0
PRODID:-//ACTR - ECPv6.2.9//NONSGML v1.0//EN
CALSCALE:GREGORIAN
METHOD:PUBLISH
X-ORIGINAL-URL:https://actr.ch
X-WR-CALDESC:évènements pour ACTR
REFRESH-INTERVAL;VALUE=DURATION:PT1H
X-Robots-Tag:noindex
X-PUBLISHED-TTL:PT1H
BEGIN:VTIMEZONE
TZID:Europe/Zurich
BEGIN:DAYLIGHT
TZOFFSETFROM:+0100
TZOFFSETTO:+0200
TZNAME:CEST
DTSTART:20220327T010000
END:DAYLIGHT
BEGIN:STANDARD
TZOFFSETFROM:+0200
TZOFFSETTO:+0100
TZNAME:CET
DTSTART:20221030T010000
END:STANDARD
END:VTIMEZONE
BEGIN:VEVENT
DTSTART;TZID=Europe/Zurich:20220308T200000
DTEND;TZID=Europe/Zurich:20220308T213000
DTSTAMP:20260424T100242
CREATED:20220228T100053Z
LAST-MODIFIED:20220228T100053Z
UID:4824-1646769600-1646775000@actr.ch
SUMMARY:Etude biblique & prière
DESCRIPTION:Etude biblique et prière (en présentiel) \nThème: “Le peuple demande un roi\, l’Eternel le révèle à Samuel” (1 Sam 8. 1-9. 17) \nOrateur: Clément Friderici
URL:https://actr.ch/event/etude-biblique-priere-170/
LOCATION:ACTR\, Chemin des Trois-Rois 5\, Lausanne\, 1005\, Suisse
ATTACH;FMTTYPE=image/jpeg:https://actr.ch/wp-content/uploads/2017/05/ACTR-la-parole-de-Dieu-1-e1496258536129.jpg
END:VEVENT
END:VCALENDAR