BEGIN:VCALENDAR
VERSION:2.0
PRODID:-//ACTR - ECPv6.2.9//NONSGML v1.0//EN
CALSCALE:GREGORIAN
METHOD:PUBLISH
X-WR-CALNAME:ACTR
X-ORIGINAL-URL:https://actr.ch
X-WR-CALDESC:évènements pour ACTR
REFRESH-INTERVAL;VALUE=DURATION:PT1H
X-Robots-Tag:noindex
X-PUBLISHED-TTL:PT1H
BEGIN:VTIMEZONE
TZID:Europe/Zurich
BEGIN:DAYLIGHT
TZOFFSETFROM:+0100
TZOFFSETTO:+0200
TZNAME:CEST
DTSTART:20220327T010000
END:DAYLIGHT
BEGIN:STANDARD
TZOFFSETFROM:+0200
TZOFFSETTO:+0100
TZNAME:CET
DTSTART:20221030T010000
END:STANDARD
END:VTIMEZONE
BEGIN:VEVENT
DTSTART;TZID=Europe/Zurich:20220109T100000
DTEND;TZID=Europe/Zurich:20220109T113000
DTSTAMP:20260424T165231
CREATED:20211220T125827Z
LAST-MODIFIED:20211223T104253Z
UID:4686-1641722400-1641727800@actr.ch
SUMMARY:Campagne ACTR
DESCRIPTION:Campagne ACTR\n“Parle Seigneur\, ton église écoute” \ndu 9 janvier au 13 février 2022 \n\nQu’est-ce que Dieu veut dire à l’église en 2022?\nQu’est-ce que Dieu veut me dire (à moi) en 2022?\n\n  \nPrésentation:https://www.youtube.com/watch?v=nDlu-RWckpg&t=6113s \nTémoignages: https://www.youtube.com/watch?v=svA8H4RFJik\n \nInscriptions: https://actr.ch/campagne/ \n  \n 
URL:https://actr.ch/event/culte-message-biblique-50/
LOCATION:ACTR\, Chemin des Trois-Rois 5\, Lausanne\, 1005\, Suisse
ATTACH;FMTTYPE=image/png:https://actr.ch/wp-content/uploads/2021/12/61a50a2042c69.png
END:VEVENT
BEGIN:VEVENT
DTSTART;TZID=Europe/Zurich:20220109T100000
DTEND;TZID=Europe/Zurich:20220109T114500
DTSTAMP:20260424T165231
CREATED:20220103T093755Z
LAST-MODIFIED:20220103T093755Z
UID:4703-1641722400-1641728700@actr.ch
SUMMARY:Culte & message biblique
DESCRIPTION:Dimanche 9 janvier \nProgramme: \n10h00-11h10: Culte \n11h10-11h45: Message biblique: “Le fils de l’homme ressuscité”\n \nprésenté par Christophe Argaud \n10h30-11h45: Garderie\, école du dimanche
URL:https://actr.ch/event/culte-message-biblique-52/
LOCATION:ACTR\, Chemin des Trois-Rois 5\, Lausanne\, 1005\, Suisse
ATTACH;FMTTYPE=image/jpeg:https://actr.ch/wp-content/uploads/2022/01/208062623_10227805727548558_7625892870801910367_n.jpg
END:VEVENT
END:VCALENDAR