BEGIN:VCALENDAR
VERSION:2.0
PRODID:-//ACTR - ECPv6.2.9//NONSGML v1.0//EN
CALSCALE:GREGORIAN
METHOD:PUBLISH
X-WR-CALNAME:ACTR
X-ORIGINAL-URL:https://actr.ch
X-WR-CALDESC:évènements pour ACTR
REFRESH-INTERVAL;VALUE=DURATION:PT1H
X-Robots-Tag:noindex
X-PUBLISHED-TTL:PT1H
BEGIN:VTIMEZONE
TZID:Europe/Zurich
BEGIN:DAYLIGHT
TZOFFSETFROM:+0100
TZOFFSETTO:+0200
TZNAME:CEST
DTSTART:20210328T010000
END:DAYLIGHT
BEGIN:STANDARD
TZOFFSETFROM:+0200
TZOFFSETTO:+0100
TZNAME:CET
DTSTART:20211031T010000
END:STANDARD
END:VTIMEZONE
BEGIN:VEVENT
DTSTART;TZID=Europe/Zurich:20211205T100000
DTEND;TZID=Europe/Zurich:20211205T114500
DTSTAMP:20260425T030352
CREATED:20211123T072957Z
LAST-MODIFIED:20211129T164822Z
UID:4604-1638698400-1638704700@actr.ch
SUMMARY:Culte & message biblique
DESCRIPTION:Dimanche 5 décembre \nProgramme: \n10h00-11h10: Culte\n \n11h10-11h45: Message biblique de Joël Prohin \n“Aimer l’autre\, est-ce un devoir?” \n10h30-11h45: Garderie\, école du dimanche \n  \n11h45: Assemblée générale de l’ACTR présenté par Virgile Rochat \n  \nLien pour suivre le culte en ligne: https://actr.ch/live/
URL:https://actr.ch/event/culte-message-biblique-47/
LOCATION:ACTR\, Chemin des Trois-Rois 5\, Lausanne\, 1005\, Suisse
ATTACH;FMTTYPE=image/jpeg:https://actr.ch/wp-content/uploads/2021/11/251128029_10227386652038548_4179083907650349047_n.jpg
END:VEVENT
END:VCALENDAR