BEGIN:VCALENDAR
VERSION:2.0
PRODID:-//ACTR - ECPv6.2.9//NONSGML v1.0//EN
CALSCALE:GREGORIAN
METHOD:PUBLISH
X-ORIGINAL-URL:https://actr.ch
X-WR-CALDESC:évènements pour ACTR
REFRESH-INTERVAL;VALUE=DURATION:PT1H
X-Robots-Tag:noindex
X-PUBLISHED-TTL:PT1H
BEGIN:VTIMEZONE
TZID:Europe/Zurich
BEGIN:DAYLIGHT
TZOFFSETFROM:+0100
TZOFFSETTO:+0200
TZNAME:CEST
DTSTART:20210328T010000
END:DAYLIGHT
BEGIN:STANDARD
TZOFFSETFROM:+0200
TZOFFSETTO:+0100
TZNAME:CET
DTSTART:20211031T010000
END:STANDARD
END:VTIMEZONE
BEGIN:VEVENT
DTSTART;TZID=Europe/Zurich:20211107T100000
DTEND;TZID=Europe/Zurich:20211107T114500
DTSTAMP:20260424T235957
CREATED:20211024T080406Z
LAST-MODIFIED:20211101T083635Z
UID:4544-1636279200-1636285500@actr.ch
SUMMARY:Culte & message biblique
DESCRIPTION:Dimanche 7 novembre \nProgramme: \n10h00-11h10: Culte\n \n11h10-11h45: Message biblique\n \nOrateur: Gilles Despins \n  \n10h30-11h30: Garderie\, école du dimanche
URL:https://actr.ch/event/culte-message-biblique-44/
LOCATION:ACTR\, Chemin des Trois-Rois 5\, Lausanne\, 1005\, Suisse
ATTACH;FMTTYPE=image/jpeg:https://actr.ch/wp-content/uploads/2021/01/119434529_376963720373140_5945105208021660451_o.jpg
END:VEVENT
END:VCALENDAR