BEGIN:VCALENDAR
VERSION:2.0
PRODID:-//ACTR - ECPv6.2.9//NONSGML v1.0//EN
CALSCALE:GREGORIAN
METHOD:PUBLISH
X-WR-CALNAME:ACTR
X-ORIGINAL-URL:https://actr.ch
X-WR-CALDESC:évènements pour ACTR
REFRESH-INTERVAL;VALUE=DURATION:PT1H
X-Robots-Tag:noindex
X-PUBLISHED-TTL:PT1H
BEGIN:VTIMEZONE
TZID:Europe/Zurich
BEGIN:DAYLIGHT
TZOFFSETFROM:+0100
TZOFFSETTO:+0200
TZNAME:CEST
DTSTART:20210328T010000
END:DAYLIGHT
BEGIN:STANDARD
TZOFFSETFROM:+0200
TZOFFSETTO:+0100
TZNAME:CET
DTSTART:20211031T010000
END:STANDARD
END:VTIMEZONE
BEGIN:VEVENT
DTSTART;TZID=Europe/Zurich:20211010T100000
DTEND;TZID=Europe/Zurich:20211010T114500
DTSTAMP:20260424T183954
CREATED:20210927T075344Z
LAST-MODIFIED:20210927T075537Z
UID:4510-1633860000-1633866300@actr.ch
SUMMARY:Culte & message biblique
DESCRIPTION:Dimanche 10 octobre \nProgramme: \n10h00-11h10: Culte\n \n11h10-11h45: Message biblique: “Prophétie: A la découverte du Christ”\n \nOrateur: Paul Lacombe \n  \n10h30-11h30: Garderie et Ecole du dimanche \n  \nCOVID \nSelon les dernières normes sanitaires concernant « les manifestations religieuses » réunissant plus de 50 personnes\, les personnes de plus de 16 ans devront maintenant présenter à l’entrée du local des Trois-Rois un « Certificat Covid »\, c’est-dire une pièce officielle attestant l’un des trois éléments suivants : \n\nune vaccination complète\,\nun test PCR négatif de moins de 72 heures\,\nune guérison de la Covid-19.\n\nSolution palliative : suivre le culte en livestream chez soi ou en petits groupes de maison. D’autres pistes sont à l’étude pour maintenir la vie communautaire de l’église. \nLien pour visionner le culte en ligne: https://actr.ch/live/
URL:https://actr.ch/event/culte-message-biblique-40/
LOCATION:ACTR\, Chemin des Trois-Rois 5\, Lausanne\, 1005\, Suisse
ATTACH;FMTTYPE=image/png:https://actr.ch/wp-content/uploads/2021/09/5_Prophéties-messianiques.png
END:VEVENT
END:VCALENDAR