BEGIN:VCALENDAR
VERSION:2.0
PRODID:-//ACTR - ECPv6.2.9//NONSGML v1.0//EN
CALSCALE:GREGORIAN
METHOD:PUBLISH
X-WR-CALNAME:ACTR
X-ORIGINAL-URL:https://actr.ch
X-WR-CALDESC:évènements pour ACTR
REFRESH-INTERVAL;VALUE=DURATION:PT1H
X-Robots-Tag:noindex
X-PUBLISHED-TTL:PT1H
BEGIN:VTIMEZONE
TZID:Europe/Zurich
BEGIN:DAYLIGHT
TZOFFSETFROM:+0100
TZOFFSETTO:+0200
TZNAME:CEST
DTSTART:20210328T010000
END:DAYLIGHT
BEGIN:STANDARD
TZOFFSETFROM:+0200
TZOFFSETTO:+0100
TZNAME:CET
DTSTART:20211031T010000
END:STANDARD
END:VTIMEZONE
BEGIN:VEVENT
DTSTART;TZID=Europe/Zurich:20210627T100000
DTEND;TZID=Europe/Zurich:20210627T110000
DTSTAMP:20260425T123125
CREATED:20210614T105546Z
LAST-MODIFIED:20210614T141435Z
UID:4330-1624788000-1624791600@actr.ch
SUMMARY:Culte & message biblique
DESCRIPTION:Dimanche 27 juin \nProgramme EN LIGNE OU EN PRÉSENTIEL SUR INSCRIPTION (za.gautier@gmail.com): \n10h00-11h30: Culte et message biblique\n \nThème: “Ethique ou Technologie”? \nOrateur: Thomas Sanchez \n  \n10h00-11h30: JEU KERMESS pour les enfants\n \n  \nLien pour visionner le culte en ligne: https://actr.ch/live/
URL:https://actr.ch/event/culte-message-biblique-27/
LOCATION:ACTR\, Chemin des Trois-Rois 5\, Lausanne\, 1005\, Suisse
ATTACH;FMTTYPE=image/jpeg:https://actr.ch/wp-content/uploads/2017/05/ACTR-Culte-13.jpg
END:VEVENT
END:VCALENDAR