BEGIN:VCALENDAR
VERSION:2.0
PRODID:-//ACTR - ECPv6.2.9//NONSGML v1.0//EN
CALSCALE:GREGORIAN
METHOD:PUBLISH
X-ORIGINAL-URL:https://actr.ch
X-WR-CALDESC:évènements pour ACTR
REFRESH-INTERVAL;VALUE=DURATION:PT1H
X-Robots-Tag:noindex
X-PUBLISHED-TTL:PT1H
BEGIN:VTIMEZONE
TZID:Europe/Zurich
BEGIN:DAYLIGHT
TZOFFSETFROM:+0100
TZOFFSETTO:+0200
TZNAME:CEST
DTSTART:20210328T010000
END:DAYLIGHT
BEGIN:STANDARD
TZOFFSETFROM:+0200
TZOFFSETTO:+0100
TZNAME:CET
DTSTART:20211031T010000
END:STANDARD
END:VTIMEZONE
BEGIN:VEVENT
DTSTART;TZID=Europe/Zurich:20210601T200000
DTEND;TZID=Europe/Zurich:20210601T213000
DTSTAMP:20260425T154455
CREATED:20210525T073611Z
LAST-MODIFIED:20210525T073611Z
UID:4294-1622577600-1622583000@actr.ch
SUMMARY:Etude biblique & prière
DESCRIPTION:Etude biblique et prière (en présentiel) \n” Petits et grand dans le royaume des cieux” (Matthieu 18 v. 1-14) \nOrateur: Christian Cuencet
URL:https://actr.ch/event/etude-biblique-priere-138/
LOCATION:ACTR\, Chemin des Trois-Rois 5\, Lausanne\, 1005\, Suisse
ATTACH;FMTTYPE=image/jpeg:https://actr.ch/wp-content/uploads/2017/06/ACTR-réunion-mardi-soir-05.06.17-e1496654616406.jpg
END:VEVENT
END:VCALENDAR